BEGIN:VCALENDAR
VERSION:2.0
PRODID:-//Game On! Sports 4 Girls - ECPv6.15.20//NONSGML v1.0//EN
CALSCALE:GREGORIAN
METHOD:PUBLISH
X-ORIGINAL-URL:https://gameonsports4girls.com
X-WR-CALDESC:Events for Game On! Sports 4 Girls
REFRESH-INTERVAL;VALUE=DURATION:PT1H
X-Robots-Tag:noindex
X-PUBLISHED-TTL:PT1H
BEGIN:VTIMEZONE
TZID:America/Chicago
BEGIN:DAYLIGHT
TZOFFSETFROM:-0600
TZOFFSETTO:-0500
TZNAME:CDT
DTSTART:20240310T080000
END:DAYLIGHT
BEGIN:STANDARD
TZOFFSETFROM:-0500
TZOFFSETTO:-0600
TZNAME:CST
DTSTART:20241103T070000
END:STANDARD
BEGIN:DAYLIGHT
TZOFFSETFROM:-0600
TZOFFSETTO:-0500
TZNAME:CDT
DTSTART:20250309T080000
END:DAYLIGHT
BEGIN:STANDARD
TZOFFSETFROM:-0500
TZOFFSETTO:-0600
TZNAME:CST
DTSTART:20251102T070000
END:STANDARD
BEGIN:DAYLIGHT
TZOFFSETFROM:-0600
TZOFFSETTO:-0500
TZNAME:CDT
DTSTART:20260308T080000
END:DAYLIGHT
BEGIN:STANDARD
TZOFFSETFROM:-0500
TZOFFSETTO:-0600
TZNAME:CST
DTSTART:20261101T070000
END:STANDARD
END:VTIMEZONE
BEGIN:VEVENT
DTSTART;VALUE=DATE:20250731
DTEND;VALUE=DATE:20250801
DTSTAMP:20260425T104352
CREATED:20250531T000424Z
LAST-MODIFIED:20250731T130554Z
UID:123261-1753920000-1754006399@gameonsports4girls.com
SUMMARY:Track and Field Games
DESCRIPTION:
URL:https://gameonsports4girls.com/calendar/track-and-field-games/
CATEGORIES:Glencoe & Surrounding Areas
END:VEVENT
BEGIN:VEVENT
DTSTART;VALUE=DATE:20250731
DTEND;VALUE=DATE:20250801
DTSTAMP:20260425T104352
CREATED:20250531T000424Z
LAST-MODIFIED:20250731T130554Z
UID:123262-1753920000-1754006399@gameonsports4girls.com
SUMMARY:FAN DAY - Bring your favorite stuffy to camp.
DESCRIPTION:We will have all the stuffies serve as our fans for the day – lining them up to watch.
URL:https://gameonsports4girls.com/calendar/fan-day-bring-your-favorite-stuffy-to-camp/
CATEGORIES:Glencoe & Surrounding Areas
END:VEVENT
BEGIN:VEVENT
DTSTART;VALUE=DATE:20250731
DTEND;VALUE=DATE:20250801
DTSTAMP:20260425T104352
CREATED:20250610T000436Z
LAST-MODIFIED:20250731T132106Z
UID:124217-1753920000-1754006399@gameonsports4girls.com
SUMMARY:Wear Your Camp T-Shirt Day!
DESCRIPTION:
URL:https://gameonsports4girls.com/calendar/wear-your-camp-t-shirt-day-6/
CATEGORIES:Lakeview Chicago & Surrounding Areas
END:VEVENT
BEGIN:VEVENT
DTSTART;VALUE=DATE:20250731
DTEND;VALUE=DATE:20250801
DTSTAMP:20260425T104352
CREATED:20250704T031929Z
LAST-MODIFIED:20250731T132106Z
UID:127413-1753920000-1754006399@gameonsports4girls.com
SUMMARY:Wear Your Camp T-Shirt Day!
DESCRIPTION:
URL:https://gameonsports4girls.com/calendar/wear-your-camp-t-shirt-day-12/
CATEGORIES:Lakeview Chicago & Surrounding Areas
END:VEVENT
BEGIN:VEVENT
DTSTART;VALUE=DATE:20250731
DTEND;VALUE=DATE:20250801
DTSTAMP:20260425T104352
CREATED:20250725T000416Z
LAST-MODIFIED:20250731T132106Z
UID:129496-1753920000-1754006399@gameonsports4girls.com
SUMMARY:Closing Ceremony Olympics
DESCRIPTION:
URL:https://gameonsports4girls.com/calendar/closing-ceremony-olympics/
CATEGORIES:Lakeview Chicago & Surrounding Areas
END:VEVENT
END:VCALENDAR