BEGIN:VCALENDAR
VERSION:2.0
PRODID:-//Game On! Sports 4 Girls - ECPv6.15.20//NONSGML v1.0//EN
CALSCALE:GREGORIAN
METHOD:PUBLISH
X-WR-CALNAME:Game On! Sports 4 Girls
X-ORIGINAL-URL:https://gameonsports4girls.com
X-WR-CALDESC:Events for Game On! Sports 4 Girls
REFRESH-INTERVAL;VALUE=DURATION:PT1H
X-Robots-Tag:noindex
X-PUBLISHED-TTL:PT1H
BEGIN:VTIMEZONE
TZID:America/Chicago
BEGIN:DAYLIGHT
TZOFFSETFROM:-0600
TZOFFSETTO:-0500
TZNAME:CDT
DTSTART:20240310T080000
END:DAYLIGHT
BEGIN:STANDARD
TZOFFSETFROM:-0500
TZOFFSETTO:-0600
TZNAME:CST
DTSTART:20241103T070000
END:STANDARD
BEGIN:DAYLIGHT
TZOFFSETFROM:-0600
TZOFFSETTO:-0500
TZNAME:CDT
DTSTART:20250309T080000
END:DAYLIGHT
BEGIN:STANDARD
TZOFFSETFROM:-0500
TZOFFSETTO:-0600
TZNAME:CST
DTSTART:20251102T070000
END:STANDARD
BEGIN:DAYLIGHT
TZOFFSETFROM:-0600
TZOFFSETTO:-0500
TZNAME:CDT
DTSTART:20260308T080000
END:DAYLIGHT
BEGIN:STANDARD
TZOFFSETFROM:-0500
TZOFFSETTO:-0600
TZNAME:CST
DTSTART:20261101T070000
END:STANDARD
END:VTIMEZONE
BEGIN:VEVENT
DTSTART;VALUE=DATE:20250804
DTEND;VALUE=DATE:20250805
DTSTAMP:20260425T103606
CREATED:20250317T201305Z
LAST-MODIFIED:20250804T142412Z
UID:115872-1754265600-1754351999@gameonsports4girls.com
SUMMARY:Week 7
DESCRIPTION:
URL:https://gameonsports4girls.com/calendar/week-7-4/
CATEGORIES:Lakeview Chicago & Surrounding Areas
END:VEVENT
BEGIN:VEVENT
DTSTART;VALUE=DATE:20250804
DTEND;VALUE=DATE:20250805
DTSTAMP:20260425T103606
CREATED:20250317T201347Z
LAST-MODIFIED:20250804T135327Z
UID:115881-1754265600-1754351999@gameonsports4girls.com
SUMMARY:Week 8 - Games Week!
DESCRIPTION:
URL:https://gameonsports4girls.com/calendar/week-8-5/
CATEGORIES:Glencoe & Surrounding Areas
END:VEVENT
END:VCALENDAR