BEGIN:VCALENDAR
VERSION:2.0
PRODID:-//Game On! Sports 4 Girls - ECPv6.15.20//NONSGML v1.0//EN
CALSCALE:GREGORIAN
METHOD:PUBLISH
X-ORIGINAL-URL:https://gameonsports4girls.com
X-WR-CALDESC:Events for Game On! Sports 4 Girls
REFRESH-INTERVAL;VALUE=DURATION:PT1H
X-Robots-Tag:noindex
X-PUBLISHED-TTL:PT1H
BEGIN:VTIMEZONE
TZID:America/Chicago
BEGIN:DAYLIGHT
TZOFFSETFROM:-0600
TZOFFSETTO:-0500
TZNAME:CDT
DTSTART:20240310T080000
END:DAYLIGHT
BEGIN:STANDARD
TZOFFSETFROM:-0500
TZOFFSETTO:-0600
TZNAME:CST
DTSTART:20241103T070000
END:STANDARD
BEGIN:DAYLIGHT
TZOFFSETFROM:-0600
TZOFFSETTO:-0500
TZNAME:CDT
DTSTART:20250309T080000
END:DAYLIGHT
BEGIN:STANDARD
TZOFFSETFROM:-0500
TZOFFSETTO:-0600
TZNAME:CST
DTSTART:20251102T070000
END:STANDARD
BEGIN:DAYLIGHT
TZOFFSETFROM:-0600
TZOFFSETTO:-0500
TZNAME:CDT
DTSTART:20260308T080000
END:DAYLIGHT
BEGIN:STANDARD
TZOFFSETFROM:-0500
TZOFFSETTO:-0600
TZNAME:CST
DTSTART:20261101T070000
END:STANDARD
END:VTIMEZONE
BEGIN:VEVENT
DTSTART;VALUE=DATE:20250808
DTEND;VALUE=DATE:20250809
DTSTAMP:20260425T104149
CREATED:20250704T031930Z
LAST-MODIFIED:20250808T132246Z
UID:127415-1754611200-1754697599@gameonsports4girls.com
SUMMARY:Game Day Friday!
DESCRIPTION:All week long\, campers will be working on a variety of skills in each sport\, and Friday is the day they finally get to put them all together and play!
URL:https://gameonsports4girls.com/calendar/game-day-friday-28/
CATEGORIES:Lakeview Chicago & Surrounding Areas
END:VEVENT
BEGIN:VEVENT
DTSTART;VALUE=DATE:20250808
DTEND;VALUE=DATE:20250809
DTSTAMP:20260425T104149
CREATED:20250731T000423Z
LAST-MODIFIED:20250808T132207Z
UID:130080-1754611200-1754697599@gameonsports4girls.com
SUMMARY:Last day of the season :(
DESCRIPTION:
URL:https://gameonsports4girls.com/calendar/last-day-of-the-season/
CATEGORIES:Glencoe & Surrounding Areas
END:VEVENT
END:VCALENDAR