BEGIN:VCALENDAR
VERSION:2.0
PRODID:-//Game On! Sports 4 Girls - ECPv6.15.20//NONSGML v1.0//EN
CALSCALE:GREGORIAN
METHOD:PUBLISH
X-WR-CALNAME:Game On! Sports 4 Girls
X-ORIGINAL-URL:https://gameonsports4girls.com
X-WR-CALDESC:Events for Game On! Sports 4 Girls
REFRESH-INTERVAL;VALUE=DURATION:PT1H
X-Robots-Tag:noindex
X-PUBLISHED-TTL:PT1H
BEGIN:VTIMEZONE
TZID:America/Chicago
BEGIN:DAYLIGHT
TZOFFSETFROM:-0600
TZOFFSETTO:-0500
TZNAME:CDT
DTSTART:20250309T080000
END:DAYLIGHT
BEGIN:STANDARD
TZOFFSETFROM:-0500
TZOFFSETTO:-0600
TZNAME:CST
DTSTART:20251102T070000
END:STANDARD
BEGIN:DAYLIGHT
TZOFFSETFROM:-0600
TZOFFSETTO:-0500
TZNAME:CDT
DTSTART:20260308T080000
END:DAYLIGHT
BEGIN:STANDARD
TZOFFSETFROM:-0500
TZOFFSETTO:-0600
TZNAME:CST
DTSTART:20261101T070000
END:STANDARD
BEGIN:DAYLIGHT
TZOFFSETFROM:-0600
TZOFFSETTO:-0500
TZNAME:CDT
DTSTART:20270314T080000
END:DAYLIGHT
BEGIN:STANDARD
TZOFFSETFROM:-0500
TZOFFSETTO:-0600
TZNAME:CST
DTSTART:20271107T070000
END:STANDARD
END:VTIMEZONE
BEGIN:VEVENT
DTSTART;VALUE=DATE:20260615
DTEND;VALUE=DATE:20260616
DTSTAMP:20260424T122815
CREATED:20251213T000757Z
LAST-MODIFIED:20260424T122321Z
UID:143683-1781481600-1781567999@gameonsports4girls.com
SUMMARY:Opening Day Chicago Camp!
DESCRIPTION:
URL:https://gameonsports4girls.com/calendar/opening-day-chicago-camp-2/
LOCATION:Walt Disney Magnet School\, 4140 N Marine Dr\, Chicago\, IL\, United States
CATEGORIES:Lakeview Chicago & Surrounding Areas
END:VEVENT
BEGIN:VEVENT
DTSTART;VALUE=DATE:20260615
DTEND;VALUE=DATE:20260620
DTSTAMP:20260424T122815
CREATED:20251213T000757Z
LAST-MODIFIED:20260424T122322Z
UID:143684-1781481600-1781913599@gameonsports4girls.com
SUMMARY:Week 1 - Let the Fun Begin! - 20th Birthday Celebration
DESCRIPTION:
URL:https://gameonsports4girls.com/calendar/week-1-let-the-fun-begin/
LOCATION:Walt Disney Magnet School\, 4140 N Marine Dr\, Chicago\, IL\, United States
CATEGORIES:Lakeview Chicago & Surrounding Areas
END:VEVENT
END:VCALENDAR