BEGIN:VCALENDAR
VERSION:2.0
PRODID:-//Game On! Sports 4 Girls - ECPv6.15.20//NONSGML v1.0//EN
CALSCALE:GREGORIAN
METHOD:PUBLISH
X-WR-CALNAME:Game On! Sports 4 Girls
X-ORIGINAL-URL:https://gameonsports4girls.com
X-WR-CALDESC:Events for Game On! Sports 4 Girls
REFRESH-INTERVAL;VALUE=DURATION:PT1H
X-Robots-Tag:noindex
X-PUBLISHED-TTL:PT1H
BEGIN:VTIMEZONE
TZID:America/Chicago
BEGIN:DAYLIGHT
TZOFFSETFROM:-0600
TZOFFSETTO:-0500
TZNAME:CDT
DTSTART:20250309T080000
END:DAYLIGHT
BEGIN:STANDARD
TZOFFSETFROM:-0500
TZOFFSETTO:-0600
TZNAME:CST
DTSTART:20251102T070000
END:STANDARD
BEGIN:DAYLIGHT
TZOFFSETFROM:-0600
TZOFFSETTO:-0500
TZNAME:CDT
DTSTART:20260308T080000
END:DAYLIGHT
BEGIN:STANDARD
TZOFFSETFROM:-0500
TZOFFSETTO:-0600
TZNAME:CST
DTSTART:20261101T070000
END:STANDARD
BEGIN:DAYLIGHT
TZOFFSETFROM:-0600
TZOFFSETTO:-0500
TZNAME:CDT
DTSTART:20270314T080000
END:DAYLIGHT
BEGIN:STANDARD
TZOFFSETFROM:-0500
TZOFFSETTO:-0600
TZNAME:CST
DTSTART:20271107T070000
END:STANDARD
END:VTIMEZONE
BEGIN:VEVENT
DTSTART;VALUE=DATE:20260713
DTEND;VALUE=DATE:20260717
DTSTAMP:20260423T113958
CREATED:20260311T175254Z
LAST-MODIFIED:20260423T111228Z
UID:152753-1783900800-1784246399@gameonsports4girls.com
SUMMARY:Tie Dye your own Game On! Shirt (we provide the shirt)
DESCRIPTION:
URL:https://gameonsports4girls.com/calendar/tie-dye-your-own-game-on-shirt-we-provide-the-shirt-2/
CATEGORIES:Lakeview Chicago & Surrounding Areas
END:VEVENT
BEGIN:VEVENT
DTSTART;VALUE=DATE:20260716
DTEND;VALUE=DATE:20260717
DTSTAMP:20260423T113958
CREATED:20260204T000749Z
LAST-MODIFIED:20260423T111228Z
UID:148976-1784160000-1784246399@gameonsports4girls.com
SUMMARY:Dress Up: Wear Tie Dye
DESCRIPTION:
URL:https://gameonsports4girls.com/calendar/dress-up-wear-tie-dye/
CATEGORIES:Lakeview Chicago & Surrounding Areas
END:VEVENT
END:VCALENDAR