BEGIN:VCALENDAR
VERSION:2.0
PRODID:-//Game On! Sports 4 Girls - ECPv6.15.20//NONSGML v1.0//EN
CALSCALE:GREGORIAN
METHOD:PUBLISH
X-WR-CALNAME:Game On! Sports 4 Girls
X-ORIGINAL-URL:https://gameonsports4girls.com
X-WR-CALDESC:Events for Game On! Sports 4 Girls
REFRESH-INTERVAL;VALUE=DURATION:PT1H
X-Robots-Tag:noindex
X-PUBLISHED-TTL:PT1H
BEGIN:VTIMEZONE
TZID:America/Chicago
BEGIN:DAYLIGHT
TZOFFSETFROM:-0600
TZOFFSETTO:-0500
TZNAME:CDT
DTSTART:20250309T080000
END:DAYLIGHT
BEGIN:STANDARD
TZOFFSETFROM:-0500
TZOFFSETTO:-0600
TZNAME:CST
DTSTART:20251102T070000
END:STANDARD
BEGIN:DAYLIGHT
TZOFFSETFROM:-0600
TZOFFSETTO:-0500
TZNAME:CDT
DTSTART:20260308T080000
END:DAYLIGHT
BEGIN:STANDARD
TZOFFSETFROM:-0500
TZOFFSETTO:-0600
TZNAME:CST
DTSTART:20261101T070000
END:STANDARD
BEGIN:DAYLIGHT
TZOFFSETFROM:-0600
TZOFFSETTO:-0500
TZNAME:CDT
DTSTART:20270314T080000
END:DAYLIGHT
BEGIN:STANDARD
TZOFFSETFROM:-0500
TZOFFSETTO:-0600
TZNAME:CST
DTSTART:20271107T070000
END:STANDARD
END:VTIMEZONE
BEGIN:VEVENT
DTSTART;TZID=America/Chicago:20260315T143000
DTEND;TZID=America/Chicago:20260315T153000
DTSTAMP:20260422T105234
CREATED:20251107T193438Z
LAST-MODIFIED:20260222T135305Z
UID:140060-1773585000-1773588600@gameonsports4girls.com
SUMMARY:Flag Football Clinics 2nd & 3rd Grade Girls (Highwood)
DESCRIPTION:Click here to register  \n2nd-3rd grade girls\, join us for active clinics covering the FUNdamentals of flag football! Join any date(s)that works with your schedule! \nCALLING ALL GIRLS IN 2ND & 3RD GRADES! \nGet ready for special flag football clinics full of learning\, challenges\, fun games and contests in one of the hottest growing sports for girls around! Now with flexible options to fit YOUR schedule! \nEach week\, experienced Game On! Coach Maya will breakdown skills while teaching rules and strategies\, all designed to build confidence and enhanced appreciation for this incredibly fun and fast-paced sport. No doubt your daughters will come home proud and craving more end zone runs every week! Whether you are new or returning\, each clinic will feature new games\, skills and challenges. \nClinic 1 – Jan. 11 \nClinic 2 – Jan. 25 \nClinic 3 – Feb. 1 \nClinic 4 – Feb. 8 \nClinic 5 – Feb. 22 \nClinic 6 – March 1 \nClinic 7 – March 15 \nEach clinic runs 2:30-3:30 p.m. Sundays\, Jan. 11 – March 15 (no clinics Jan. 18\, Feb. 15\, March 8) \nEquipment will be provided. \nPlease wear athletic clothes\, socks and sneakers. No boots allowed.Bring a water bottle (labeled with first and last name)
URL:https://gameonsports4girls.com/calendar/flag-football-clinics-2nd-3rd-grade-girls-highwood-10/
LOCATION:The Training Yard\, 523 Bank Ln\, Highwood\, IL\, United States
CATEGORIES:Glencoe & Surrounding Areas
END:VEVENT
BEGIN:VEVENT
DTSTART;TZID=America/Chicago:20260315T153000
DTEND;TZID=America/Chicago:20260315T163000
DTSTAMP:20260422T105234
CREATED:20251111T163824Z
LAST-MODIFIED:20260222T135305Z
UID:140496-1773588600-1773592200@gameonsports4girls.com
SUMMARY:Flag Football Clinics 4th-6th Girls (Highwood)
DESCRIPTION:Register Here \n4th-6th grade girls\, join us for active clinics covering the FUNdamentals of flag football! Join any date(s)that works with your schedule! \nCALLING ALL GIRLS IN 4TH\, 5TH & 6TH GRADES! \nGet ready for special flag football clinics full of learning\, challenges\, fun games and contests in one of the hottest growing sports for girls around! Now with flexible options to fit YOUR schedule! \nEach week\, experienced Game On! Coach Maya will breakdown skills while teaching rules and strategies\, all designed to build confidence and enhanced appreciation for this incredibly fun and fast-paced sport. No doubt your daughters will come home proud and craving more end zone runs every week! Whether you are new or returning\, each clinic will feature new games\, skills and challenges. \nClinic 1 – Jan. 11 \nClinic 2 – Jan. 25 \nClinic 3 – Feb. 1 \nClinic 4 – Feb. 8 \nClinic 5 – Feb. 22 \nClinic 6 – March 1 \nClinic 7 – March 15 \nEach clinic runs 3:30-4:30 p.m. Sundays\, Jan. 11 – March 15 (no clinics Jan. 18\, Feb. 15\, March 8) \nEquipment will be provided. \nPlease wear athletic clothes\, socks and sneakers. No boots allowed. Bring a water bottle (labeled with first and last name)
URL:https://gameonsports4girls.com/calendar/flag-football-clinics-4th-6th-girls-highwood-10/
CATEGORIES:Glencoe & Surrounding Areas
END:VEVENT
BEGIN:VEVENT
DTSTART;VALUE=DATE:20260615
DTEND;VALUE=DATE:20260616
DTSTAMP:20260422T105234
CREATED:20251213T000757Z
LAST-MODIFIED:20260422T104200Z
UID:143683-1781481600-1781567999@gameonsports4girls.com
SUMMARY:Opening Day Chicago Camp!
DESCRIPTION:
URL:https://gameonsports4girls.com/calendar/opening-day-chicago-camp-2/
LOCATION:Walt Disney Magnet School\, 4140 N Marine Dr\, Chicago\, IL\, United States
CATEGORIES:Lakeview Chicago & Surrounding Areas
END:VEVENT
BEGIN:VEVENT
DTSTART;VALUE=DATE:20260615
DTEND;VALUE=DATE:20260616
DTSTAMP:20260422T105234
CREATED:20260107T000815Z
LAST-MODIFIED:20260422T101000Z
UID:146213-1781481600-1781567999@gameonsports4girls.com
SUMMARY:Opening Day 2026 - North Suburbs!
DESCRIPTION:
URL:https://gameonsports4girls.com/calendar/opening-day-2026-north-suburbs/
LOCATION:South School\, 266 Linden Ave\, Glencoe\, IL\, United States
CATEGORIES:Glencoe & Surrounding Areas
END:VEVENT
BEGIN:VEVENT
DTSTART;VALUE=DATE:20260615
DTEND;VALUE=DATE:20260620
DTSTAMP:20260422T105234
CREATED:20251213T000757Z
LAST-MODIFIED:20260422T104200Z
UID:143684-1781481600-1781913599@gameonsports4girls.com
SUMMARY:Week 1 - Let the Fun Begin! - 20th Birthday Celebration
DESCRIPTION:
URL:https://gameonsports4girls.com/calendar/week-1-let-the-fun-begin/
LOCATION:Walt Disney Magnet School\, 4140 N Marine Dr\, Chicago\, IL\, United States
CATEGORIES:Lakeview Chicago & Surrounding Areas
END:VEVENT
BEGIN:VEVENT
DTSTART;VALUE=DATE:20260615
DTEND;VALUE=DATE:20260620
DTSTAMP:20260422T105234
CREATED:20260107T000814Z
LAST-MODIFIED:20260422T101000Z
UID:146211-1781481600-1781913599@gameonsports4girls.com
SUMMARY:Week 1 - Let the Fun Begin! - 20th Birthday Celebration
DESCRIPTION:
URL:https://gameonsports4girls.com/calendar/week-1-let-the-fun-begin-20th-birthday-celebration/
LOCATION:Walt Disney Magnet School\, 4140 N Marine Dr\, Chicago\, IL\, United States
CATEGORIES:Glencoe & Surrounding Areas
END:VEVENT
BEGIN:VEVENT
DTSTART;VALUE=DATE:20260616
DTEND;VALUE=DATE:20260617
DTSTAMP:20260422T105234
CREATED:20260107T000814Z
LAST-MODIFIED:20260422T101000Z
UID:146209-1781568000-1781654399@gameonsports4girls.com
SUMMARY:Shhh... it's a Surprise Party!
DESCRIPTION:
URL:https://gameonsports4girls.com/calendar/shhh-its-a-surprise-party-2/
CATEGORIES:Glencoe & Surrounding Areas
END:VEVENT
BEGIN:VEVENT
DTSTART;VALUE=DATE:20260616
DTEND;VALUE=DATE:20260617
DTSTAMP:20260422T105234
CREATED:20260205T000819Z
LAST-MODIFIED:20260422T104200Z
UID:149161-1781568000-1781654399@gameonsports4girls.com
SUMMARY:Healthier4Me
DESCRIPTION:Our Healthier4Me program is an integral part of our weekly programming incorporating themes and creative projects that include respect for others\, believing in yourself\, sportsmanship\, body image\, giving back\, teamwork\, resiliency\, and leadership\, just to name a few.  Ask your camper about our Healthier4Me topic of the week. You can also find information on our topics in our weekly Huddle Newsletter.
URL:https://gameonsports4girls.com/calendar/healthier4me/
CATEGORIES:Lakeview Chicago & Surrounding Areas
END:VEVENT
BEGIN:VEVENT
DTSTART;VALUE=DATE:20260616
DTEND;VALUE=DATE:20260617
DTSTAMP:20260422T105234
CREATED:20260205T000830Z
LAST-MODIFIED:20260422T101000Z
UID:149171-1781568000-1781654399@gameonsports4girls.com
SUMMARY:Healthier4Me
DESCRIPTION:Our Healthier4Me program is an integral part of our weekly programming incorporating themes and creative projects that include respect for others\, believing in yourself\, sportsmanship\, body image\, giving back\, teamwork\, resiliency\, and leadership\, just to name a few.  Ask your camper about our Healthier4Me topic of the week. You can also find information on our topics in our weekly Huddle Newsletter.
URL:https://gameonsports4girls.com/calendar/healthier4me-8/
CATEGORIES:Glencoe & Surrounding Areas
END:VEVENT
BEGIN:VEVENT
DTSTART;VALUE=DATE:20260617
DTEND;VALUE=DATE:20260618
DTSTAMP:20260422T105234
CREATED:20260107T000754Z
LAST-MODIFIED:20260422T104200Z
UID:146204-1781654400-1781740799@gameonsports4girls.com
SUMMARY:Shhh... it's a Surprise Party!
DESCRIPTION:
URL:https://gameonsports4girls.com/calendar/shhh-its-a-surprise-party/
CATEGORIES:Lakeview Chicago & Surrounding Areas
END:VEVENT
BEGIN:VEVENT
DTSTART;VALUE=DATE:20260617
DTEND;VALUE=DATE:20260618
DTSTAMP:20260422T105234
CREATED:20260107T000815Z
LAST-MODIFIED:20260422T100959Z
UID:146214-1781654400-1781740799@gameonsports4girls.com
SUMMARY:Birthday Party Games!
DESCRIPTION:
URL:https://gameonsports4girls.com/calendar/birthday-party-games-2/
CATEGORIES:Glencoe & Surrounding Areas
END:VEVENT
BEGIN:VEVENT
DTSTART;VALUE=DATE:20260617
DTEND;VALUE=DATE:20260618
DTSTAMP:20260422T105234
CREATED:20260204T000758Z
LAST-MODIFIED:20260422T101000Z
UID:148995-1781654400-1781740799@gameonsports4girls.com
SUMMARY:Dress Up: Wacky Wednesday
DESCRIPTION:Sport your craziest hair styles\, crazies colorful clothes and just have fun!
URL:https://gameonsports4girls.com/calendar/dress-up-wacky-wednesday/
CATEGORIES:Glencoe & Surrounding Areas
END:VEVENT
BEGIN:VEVENT
DTSTART;VALUE=DATE:20260617
DTEND;VALUE=DATE:20260618
DTSTAMP:20260422T105234
CREATED:20260304T000750Z
LAST-MODIFIED:20260422T104200Z
UID:151918-1781654400-1781740799@gameonsports4girls.com
SUMMARY:Dress Up: Wacky Wednesday
DESCRIPTION:Sport your craziest hair styles\, hats\, craziest colorful clothes and just have fun!
URL:https://gameonsports4girls.com/calendar/dress-up-wacky-wednesday-2/
CATEGORIES:Lakeview Chicago & Surrounding Areas
END:VEVENT
BEGIN:VEVENT
DTSTART;VALUE=DATE:20260618
DTEND;VALUE=DATE:20260619
DTSTAMP:20260422T105234
CREATED:20260107T000754Z
LAST-MODIFIED:20260422T104200Z
UID:146205-1781740800-1781827199@gameonsports4girls.com
SUMMARY:Birthday Party Games!
DESCRIPTION:Freeze Dance\nPin the tail on the ?\nMusical Chairs\nSimon Says for younger kids (coach says) – older kids can even lead it for younger kids\nRiddle Scavenger hunt Challenge
URL:https://gameonsports4girls.com/calendar/birthday-party-games/
CATEGORIES:Lakeview Chicago & Surrounding Areas
END:VEVENT
BEGIN:VEVENT
DTSTART;VALUE=DATE:20260619
DTEND;VALUE=DATE:20260620
DTSTAMP:20260422T105234
CREATED:20260107T000754Z
LAST-MODIFIED:20260422T104200Z
UID:146206-1781827200-1781913599@gameonsports4girls.com
SUMMARY:Game Day Friday
DESCRIPTION:
URL:https://gameonsports4girls.com/calendar/game-day-friday-30/
CATEGORIES:Lakeview Chicago & Surrounding Areas
END:VEVENT
BEGIN:VEVENT
DTSTART;VALUE=DATE:20260619
DTEND;VALUE=DATE:20260620
DTSTAMP:20260422T105234
CREATED:20260107T000754Z
LAST-MODIFIED:20260228T032310Z
UID:146207-1781827200-1781913599@gameonsports4girls.com
SUMMARY:Birthday Dance Party
DESCRIPTION:
URL:https://gameonsports4girls.com/calendar/birthday-dance-party/
CATEGORIES:Lakeview Chicago & Surrounding Areas
END:VEVENT
BEGIN:VEVENT
DTSTART;VALUE=DATE:20260619
DTEND;VALUE=DATE:20260620
DTSTAMP:20260422T105234
CREATED:20260107T000814Z
LAST-MODIFIED:20260422T101000Z
UID:146210-1781827200-1781913599@gameonsports4girls.com
SUMMARY:Birthday Dance Party
DESCRIPTION:
URL:https://gameonsports4girls.com/calendar/birthday-dance-party-2/
CATEGORIES:Glencoe & Surrounding Areas
END:VEVENT
BEGIN:VEVENT
DTSTART;VALUE=DATE:20260619
DTEND;VALUE=DATE:20260620
DTSTAMP:20260422T105234
CREATED:20260107T000815Z
LAST-MODIFIED:20260422T101000Z
UID:146215-1781827200-1781913599@gameonsports4girls.com
SUMMARY:Game Day Friday
DESCRIPTION:
URL:https://gameonsports4girls.com/calendar/game-day-friday-31/
CATEGORIES:Glencoe & Surrounding Areas
END:VEVENT
BEGIN:VEVENT
DTSTART;VALUE=DATE:20260619
DTEND;VALUE=DATE:20260620
DTSTAMP:20260422T105234
CREATED:20260228T040753Z
LAST-MODIFIED:20260422T104200Z
UID:151517-1781827200-1781913599@gameonsports4girls.com
SUMMARY:Birthday Dance Party
DESCRIPTION:
URL:https://gameonsports4girls.com/calendar/birthday-dance-party-3/
CATEGORIES:Lakeview Chicago & Surrounding Areas
END:VEVENT
BEGIN:VEVENT
DTSTART;VALUE=DATE:20260622
DTEND;VALUE=DATE:20260623
DTSTAMP:20260422T105234
CREATED:20260204T000753Z
LAST-MODIFIED:20260422T104213Z
UID:148982-1782086400-1782172799@gameonsports4girls.com
SUMMARY:Olympics Week
DESCRIPTION:
URL:https://gameonsports4girls.com/calendar/week-4-world-games-week/
CATEGORIES:Lakeview Chicago & Surrounding Areas
END:VEVENT
BEGIN:VEVENT
DTSTART;VALUE=DATE:20260622
DTEND;VALUE=DATE:20260623
DTSTAMP:20260422T105234
CREATED:20260204T000808Z
LAST-MODIFIED:20260310T112319Z
UID:149001-1782086400-1782172799@gameonsports4girls.com
SUMMARY:Tie Dye Week
DESCRIPTION:
URL:https://gameonsports4girls.com/calendar/tie-dye-week/
CATEGORIES:Glencoe & Surrounding Areas
END:VEVENT
BEGIN:VEVENT
DTSTART;VALUE=DATE:20260622
DTEND;VALUE=DATE:20260623
DTSTAMP:20260422T105234
CREATED:20260304T000844Z
LAST-MODIFIED:20260422T101000Z
UID:151936-1782086400-1782172799@gameonsports4girls.com
SUMMARY:History of Sports Week
DESCRIPTION:
URL:https://gameonsports4girls.com/calendar/history-of-sports/
CATEGORIES:Glencoe & Surrounding Areas
END:VEVENT
BEGIN:VEVENT
DTSTART;VALUE=DATE:20260623
DTEND;VALUE=DATE:20260624
DTSTAMP:20260422T105234
CREATED:20260227T000807Z
LAST-MODIFIED:20260310T112319Z
UID:151376-1782172800-1782259199@gameonsports4girls.com
SUMMARY:Tie Dye Decorate Art Project
DESCRIPTION:
URL:https://gameonsports4girls.com/calendar/tie-dye-decorate-art-project/
CATEGORIES:Glencoe & Surrounding Areas
END:VEVENT
BEGIN:VEVENT
DTSTART;VALUE=DATE:20260623
DTEND;VALUE=DATE:20260624
DTSTAMP:20260422T105234
CREATED:20260304T000802Z
LAST-MODIFIED:20260422T104213Z
UID:151920-1782172800-1782259199@gameonsports4girls.com
SUMMARY:Olympic Track Meet
DESCRIPTION:HIGHER\, FASTER\, STRONGER! That is the Olympic moto. Lace up the shoes and get read for a day of fun competition.
URL:https://gameonsports4girls.com/calendar/olympic-track-meet-3/
CATEGORIES:Lakeview Chicago & Surrounding Areas
END:VEVENT
BEGIN:VEVENT
DTSTART;VALUE=DATE:20260623
DTEND;VALUE=DATE:20260624
DTSTAMP:20260422T105234
CREATED:20260304T000844Z
LAST-MODIFIED:20260422T101012Z
UID:151937-1782172800-1782259199@gameonsports4girls.com
SUMMARY:International Sports
DESCRIPTION:
URL:https://gameonsports4girls.com/calendar/international-sports-week/
CATEGORIES:Glencoe & Surrounding Areas
END:VEVENT
BEGIN:VEVENT
DTSTART;VALUE=DATE:20260624
DTEND;VALUE=DATE:20260625
DTSTAMP:20260422T105234
CREATED:20260204T000808Z
LAST-MODIFIED:20260310T112319Z
UID:149002-1782259200-1782345599@gameonsports4girls.com
SUMMARY:Dress Up: Wear Tie Dye
DESCRIPTION:
URL:https://gameonsports4girls.com/calendar/dress-up-wear-tie-dye-2/
CATEGORIES:Glencoe & Surrounding Areas
END:VEVENT
BEGIN:VEVENT
DTSTART;VALUE=DATE:20260624
DTEND;VALUE=DATE:20260625
DTSTAMP:20260422T105234
CREATED:20260304T000844Z
LAST-MODIFIED:20260422T101012Z
UID:151938-1782259200-1782345599@gameonsports4girls.com
SUMMARY:Learn a New International Sport
DESCRIPTION:
URL:https://gameonsports4girls.com/calendar/learn-a-new-international-sport/
CATEGORIES:Glencoe & Surrounding Areas
END:VEVENT
BEGIN:VEVENT
DTSTART;VALUE=DATE:20260624
DTEND;VALUE=DATE:20260625
DTSTAMP:20260422T105234
CREATED:20260320T160756Z
LAST-MODIFIED:20260422T101001Z
UID:153720-1782259200-1782345599@gameonsports4girls.com
SUMMARY:Bring your Biggest Fan (stuffy) to camp
DESCRIPTION:
URL:https://gameonsports4girls.com/calendar/bring-your-biggest-fan-stuffy-to-camp/
CATEGORIES:Glencoe & Surrounding Areas
END:VEVENT
BEGIN:VEVENT
DTSTART;VALUE=DATE:20260624
DTEND;VALUE=DATE:20260625
DTSTAMP:20260422T105234
CREATED:20260320T175256Z
LAST-MODIFIED:20260422T104200Z
UID:153725-1782259200-1782345599@gameonsports4girls.com
SUMMARY:Sports Jeopardy
DESCRIPTION:
URL:https://gameonsports4girls.com/calendar/sports-jeopardy/
CATEGORIES:Lakeview Chicago & Surrounding Areas
END:VEVENT
BEGIN:VEVENT
DTSTART;VALUE=DATE:20260625
DTEND;VALUE=DATE:20260626
DTSTAMP:20260422T105234
CREATED:20260205T000820Z
LAST-MODIFIED:20260422T104213Z
UID:149162-1782345600-1782431999@gameonsports4girls.com
SUMMARY:Healthier4Me
DESCRIPTION:Our Healthier4Me program is an integral part of our weekly programming incorporating themes and creative projects that include respect for others\, believing in yourself\, sportsmanship\, body image\, giving back\, teamwork\, resiliency\, and leadership\, just to name a few.  Ask your camper about our Healthier4Me topic of the week. You can also find information on our topics in our weekly Huddle Newsletter.
URL:https://gameonsports4girls.com/calendar/healthier4me-2/
CATEGORIES:Lakeview Chicago & Surrounding Areas
END:VEVENT
END:VCALENDAR