BEGIN:VCALENDAR
VERSION:2.0
PRODID:-//Game On! Sports 4 Girls - ECPv6.15.20//NONSGML v1.0//EN
CALSCALE:GREGORIAN
METHOD:PUBLISH
X-WR-CALNAME:Game On! Sports 4 Girls
X-ORIGINAL-URL:https://gameonsports4girls.com
X-WR-CALDESC:Events for Game On! Sports 4 Girls
REFRESH-INTERVAL;VALUE=DURATION:PT1H
X-Robots-Tag:noindex
X-PUBLISHED-TTL:PT1H
BEGIN:VTIMEZONE
TZID:America/Chicago
BEGIN:DAYLIGHT
TZOFFSETFROM:-0600
TZOFFSETTO:-0500
TZNAME:CDT
DTSTART:20240310T080000
END:DAYLIGHT
BEGIN:STANDARD
TZOFFSETFROM:-0500
TZOFFSETTO:-0600
TZNAME:CST
DTSTART:20241103T070000
END:STANDARD
BEGIN:DAYLIGHT
TZOFFSETFROM:-0600
TZOFFSETTO:-0500
TZNAME:CDT
DTSTART:20250309T080000
END:DAYLIGHT
BEGIN:STANDARD
TZOFFSETFROM:-0500
TZOFFSETTO:-0600
TZNAME:CST
DTSTART:20251102T070000
END:STANDARD
BEGIN:DAYLIGHT
TZOFFSETFROM:-0600
TZOFFSETTO:-0500
TZNAME:CDT
DTSTART:20260308T080000
END:DAYLIGHT
BEGIN:STANDARD
TZOFFSETFROM:-0500
TZOFFSETTO:-0600
TZNAME:CST
DTSTART:20261101T070000
END:STANDARD
END:VTIMEZONE
BEGIN:VEVENT
DTSTART;TZID=America/Chicago:20251109T150000
DTEND;TZID=America/Chicago:20251109T163000
DTSTAMP:20260419T163041
CREATED:20251107T181914Z
LAST-MODIFIED:20251107T183400Z
UID:140036-1762700400-1762705800@gameonsports4girls.com
SUMMARY:Flag Football Clinic at The Training Yard
DESCRIPTION:
URL:https://gameonsports4girls.com/calendar/flag-football-clinic-at-the-training-yard/
LOCATION:523 Bank lane\, Highwood\, 60040\, IL
CATEGORIES:Glencoe & Surrounding Areas
END:VEVENT
BEGIN:VEVENT
DTSTART;TZID=America/Chicago:20251109T150000
DTEND;TZID=America/Chicago:20251109T163000
DTSTAMP:20260419T163041
CREATED:20251107T193428Z
LAST-MODIFIED:20251109T182320Z
UID:140043-1762700400-1762705800@gameonsports4girls.com
SUMMARY:Flag Football Clinic (Highwood)
DESCRIPTION:Register here \nJoin us for active \, fun and in-depth clinics covering the FUNdamentals of flag football! Join any date(s)that works with your schedule! \nGet ready for special flag football clinics full of learning\, challenges\, fun games and contests in one of the hottest growing sports for girls around! Now with flexible options to fit YOUR schedule! \nEach week\, experienced Game On! Coach Maya will breakdown skills while teaching rules and strategies\, all designed to build confidence and enhanced appreciation for this incredibly fun and fast-paced sport. No doubt your daughters will come home proud and craving more end zone runs every week! Each clinic will feature new games\, skills and challenges. \nSept. 21 – Clinic 1: Passing and Catching techniques \nSept 28 – Clinic 2: Flag Pulling Techniques and Strategies \nOct 5 – Clinic 3: Route Running \nOct 19 – Clinic 4: Defensive skills \nOct 26 – Clinic 5: Offensive skills \nNov 2 – Clinic 6: Advanced Flag Pulling \nNov 9 – Clinic 7: Advanced Throwing Technique \nNov 16 – Clinic 8: Advanced Route Running \nEach clinic runs 3:00-4:30 p.m. Sundays\, Sept. 21 – Nov. 16 (no clinic Oct 12) \nEquipment will be provided. \nPlease wear athletic clothes\, socks and sneakers. No boots allowed.Bring a water bottle (labeled with first and last name)
URL:https://gameonsports4girls.com/calendar/flag-football-clinic-highwood/
LOCATION:523 Bank lane\, Highwood\, 60040\, IL
CATEGORIES:Glencoe & Surrounding Areas
END:VEVENT
BEGIN:VEVENT
DTSTART;TZID=America/Chicago:20251116T150000
DTEND;TZID=America/Chicago:20251116T163000
DTSTAMP:20260419T163041
CREATED:20251107T181915Z
LAST-MODIFIED:20251107T183400Z
UID:140038-1763305200-1763310600@gameonsports4girls.com
SUMMARY:Flag Football Clinic at The Training Yard
DESCRIPTION:
URL:https://gameonsports4girls.com/calendar/flag-football-clinic-at-the-training-yard-2/
LOCATION:523 Bank lane\, Highwood\, 60040\, IL
CATEGORIES:Glencoe & Surrounding Areas
END:VEVENT
BEGIN:VEVENT
DTSTART;TZID=America/Chicago:20251116T150000
DTEND;TZID=America/Chicago:20251116T163000
DTSTAMP:20260419T163041
CREATED:20251107T193429Z
LAST-MODIFIED:20251116T180836Z
UID:140044-1763305200-1763310600@gameonsports4girls.com
SUMMARY:Flag Football Clinic (Highwood)
DESCRIPTION:Register here \nJoin us for active \, fun and in-depth clinics covering the FUNdamentals of flag football! Join any date(s)that works with your schedule! \nGet ready for special flag football clinics full of learning\, challenges\, fun games and contests in one of the hottest growing sports for girls around! Now with flexible options to fit YOUR schedule! \nEach week\, experienced Game On! Coach Maya will breakdown skills while teaching rules and strategies\, all designed to build confidence and enhanced appreciation for this incredibly fun and fast-paced sport. No doubt your daughters will come home proud and craving more end zone runs every week! Each clinic will feature new games\, skills and challenges. \nSept. 21 – Clinic 1: Passing and Catching techniques \nSept 28 – Clinic 2: Flag Pulling Techniques and Strategies \nOct 5 – Clinic 3: Route Running \nOct 19 – Clinic 4: Defensive skills \nOct 26 – Clinic 5: Offensive skills \nNov 2 – Clinic 6: Advanced Flag Pulling \nNov 9 – Clinic 7: Advanced Throwing Technique \nNov 16 – Clinic 8: Advanced Route Running \nEach clinic runs 3:00-4:30 p.m. Sundays\, Sept. 21 – Nov. 16 (no clinic Oct 12) \nEquipment will be provided. \nPlease wear athletic clothes\, socks and sneakers. No boots allowed.Bring a water bottle (labeled with first and last name)
URL:https://gameonsports4girls.com/calendar/flag-football-clinic-highwood-2/
LOCATION:523 Bank lane\, Highwood\, 60040\, IL
CATEGORIES:Glencoe & Surrounding Areas
END:VEVENT
BEGIN:VEVENT
DTSTART;TZID=America/Chicago:20251124T090000
DTEND;TZID=America/Chicago:20251124T150000
DTSTAMP:20260419T163041
CREATED:20251107T193430Z
LAST-MODIFIED:20251124T180819Z
UID:140046-1763974800-1763996400@gameonsports4girls.com
SUMMARY:Day Off School Event (Wilmette)
DESCRIPTION:Register here!  \nLooking for a GirlStrong way to spend your day off Monday\, Nov. 24? Spots go fast\, grab yours today!!\nGirls K-4th\, join Game On! Sports 4 Girls for a day jam-packed with active and creative fun! Half day options are also available. Sports play & games\, team building\, creative projects\, and overall GirlStrong fun will fill our time together. There will also be a snack break for all and a lunch break for full day attendees. Each day off event will feature different sports\, contests\, games and projects. \nAll girls should come ready to play in athletic clothes and sneakers. Please bring a water bottle\, snack (all attendees)\, and lunch (full day attendees). All food must be nut-free. \nADDITIONAL POWER4GIRLS DAY OFF DATES:Monday\, January 19
URL:https://gameonsports4girls.com/calendar/day-off-school-event-wilmette/
LOCATION:Baker Demonstration School\, 201 Sheridan Rd\, Wilmette\, IL\, United States
CATEGORIES:Glencoe & Surrounding Areas
END:VEVENT
END:VCALENDAR